BEGIN:VCALENDAR
VERSION:2.0
PRODID:-//ChamberMaster//Event Calendar 2.0//EN
METHOD:PUBLISH
X-PUBLISHED-TTL:P3D
REFRESH-INTERVAL:P3D
CALSCALE:GREGORIAN
BEGIN:VEVENT
DTSTART:20181121T123000Z
DTEND:20181121T140000Z
X-MICROSOFT-CDO-ALLDAYEVENT:FALSE
SUMMARY:NO Breakfast!
DESCRIPTION:NO Chamber Breakfast! \n\nPlease enjoy the Holidays with your family and friends!
X-ALT-DESC;FMTTYPE=text/html:<span style="font-family:times new roman\;"><span style="color:#006699\;"><span style="font-size:28px\;"><strong>NO Chamber Breakfast!&nbsp\;</strong></span></span></span><br />\n<span style="font-size: 20px\;"><b>Please enjoy the Holidays with your family and friends!&nbsp\;</b></span>
LOCATION:Pinellas Park Senior Center 7625 59th St Pinellas Park
UID:e.131.10208
SEQUENCE:3
DTSTAMP:20260420T184944Z
URL:http://pinellasparkchamber.chambermaster.com/events/details/no-breakfast-10208
END:VEVENT

END:VCALENDAR
