BEGIN:VCALENDAR
VERSION:2.0
PRODID:-//ChamberMaster//Event Calendar 2.0//EN
METHOD:PUBLISH
X-PUBLISHED-TTL:P3D
REFRESH-INTERVAL:P3D
CALSCALE:GREGORIAN
BEGIN:VEVENT
DTSTART:20180625T210000Z
DTEND:20180625T230000Z
X-MICROSOFT-CDO-ALLDAYEVENT:FALSE
SUMMARY:Networking Social Hour
DESCRIPTION:NEW TIME NEW NAME!\n\nOur Monday Mixer got a makeover! \n\n\n\nNetworking Social Hour\n\nGrow Financial Credit Union\n\nMonday\, June 25th\, 5:00-7:00 pm\n\n6900 Park Blvd. Pinellas Park\, 33781\n\n\n\nAppetizers\, Libations\, MONEY MACHINE (get a chance to win cash)\,Raffles\, Networking opportunities and more! \n\nJoin us for a fun night hosted by Grow Financial Credit Union!
X-ALT-DESC;FMTTYPE=text/html:<p><span style="color: rgb(0\, 0\, 0)\;"><strong><em><span style="font-family: bookman old style\,serif\;"><span style="font-size: 18pt\;">NEW TIME NEW NAME!</span></span></em></strong><br>\n<span style="font-family: bookman old style\,serif\;"><span style="font-size: 18pt\;"><em>Our Monday Mixer got a makeover!&nbsp\;</em><br>\n<br>\n<strong>Networking Social Hour</strong><br>\nGrow Financial Credit Union<br>\n<strong>Monday\,&nbsp\;June&nbsp\;25th\, 5:00-7:00 pm</strong><br>\n6900 Park Blvd. Pinellas Park\, 33781<br>\n<br>\nAppetizers\, Libations\, MONEY MACHINE (get a chance to win cash)\,Raffles\, Networking opportunities and more!&nbsp\;<br>\nJoin us for a fun night hosted by Grow Financial Credit Union!</span></span></span></p>\n
LOCATION:Grow Financial Credit Union 6900 Park Blvd. Pinellas Park\, 33781
UID:e.131.12140
SEQUENCE:3
DTSTAMP:20260421T000641Z
URL:http://pinellasparkchamber.chambermaster.com/events/details/networking-social-hour-12140
END:VEVENT

END:VCALENDAR
