BEGIN:VCALENDAR
VERSION:2.0
PRODID:-//ChamberMaster//Event Calendar 2.0//EN
METHOD:PUBLISH
X-PUBLISHED-TTL:P3D
REFRESH-INTERVAL:P3D
CALSCALE:GREGORIAN
BEGIN:VEVENT
DTSTART:20180225T190000Z
DTEND:20180225T210000Z
X-MICROSOFT-CDO-ALLDAYEVENT:FALSE
SUMMARY:DENYING GRAVITY PLAY
DESCRIPTION:February 25\, 2018 at 2:00 p.m.\n\nby Linda Goldman\n\nDirected by Christine Hamacher\n\nBe inspired by a blend of comedy and drama that\n\nhighlights a significant issue for seniors!\n\nPinellas Park Performing Arts Center\n\n4951 78th Ave N\, Pinellas Park\n\nSunday\, February 25th\, 2018 at 2:00 P.M.\n\nFREE ADMISSION\n\nOPEN TO THE PUBLIC\n\nPresented by S*A*G*E*S\n\n(*Senior Actors Guild & Education Services)\n\nin Partnership with:\n\nPinellas Park Fire Department\n\nFall Prevention Coalition of\n\nBetter Living for Seniors\n\nInformation: SAGES 727-536-7076
X-ALT-DESC;FMTTYPE=text/html:February 25\, 2018 at 2:00 p.m.<br />\nby Linda Goldman<br />\nDirected by Christine Hamacher<br />\nBe inspired by a blend of comedy and drama that<br />\nhighlights a significant issue for seniors!<br />\nPinellas Park Performing Arts Center<br />\n4951 78th Ave N\, Pinellas Park<br />\nSunday\, February 25th\, 2018 at 2:00 P.M.<br />\nFREE ADMISSION<br />\nOPEN TO THE PUBLIC<br />\nPresented by S*A*G*E*S<br />\n(*Senior Actors Guild &amp\; Education Services)<br />\nin Partnership with:<br />\nPinellas Park Fire Department<br />\nFall Prevention Coalition of<br />\nBetter Living for Seniors<br />\nInformation: SAGES 727-536-7076
LOCATION:Pinellas Park Performing Arts Center 4951 78th Ave N\, Pinellas Park
UID:e.131.10722
SEQUENCE:3
DTSTAMP:20260423T141452Z
URL:http://pinellasparkchamber.chambermaster.com/events/details/denying-gravity-play-10722
END:VEVENT

END:VCALENDAR
